BYTEORDER      M
LAYOUT         BIL
NROWS          2889
NCOLS          4587
NBANDS         1
NBITS          16
SKIPBYTES      0
XDIM           1000.000000
YDIM           1000.000000
ULXMAP         -2050000.000000
ULYMAP         752000.000000
