BYTEORDER      M
LAYOUT         BIL
NCOLS          4587
NROWS          2889
NBANDS         1
NBITS          16
XDIM           1000.0000
YDIM           1000.0000
ULXMAP         2537000.0
ULYMAP         752000.00
BANDROWBYTES   9174
TOTALROWBYTES  9174
